BEGIN:VCALENDAR
VERSION:2.0
PRODID:-//Chrystelle Argous - ECPv6.13.2.1//NONSGML v1.0//EN
CALSCALE:GREGORIAN
METHOD:PUBLISH
X-ORIGINAL-URL:https://chrystelleargous.fr
X-WR-CALDESC:Évènements pour Chrystelle Argous
REFRESH-INTERVAL;VALUE=DURATION:PT1H
X-Robots-Tag:noindex
X-PUBLISHED-TTL:PT1H
BEGIN:VTIMEZONE
TZID:Europe/Paris
BEGIN:DAYLIGHT
TZOFFSETFROM:+0100
TZOFFSETTO:+0200
TZNAME:CEST
DTSTART:20250330T010000
END:DAYLIGHT
BEGIN:STANDARD
TZOFFSETFROM:+0200
TZOFFSETTO:+0100
TZNAME:CET
DTSTART:20251026T010000
END:STANDARD
END:VTIMEZONE
BEGIN:VEVENT
DTSTART;VALUE=DATE:20250712
DTEND;VALUE=DATE:20250715
DTSTAMP:20260421T223453
CREATED:20250512T151620Z
LAST-MODIFIED:20250603T143115Z
UID:25993701-1752278400-1752537599@chrystelleargous.fr
SUMMARY:Atelier se recentrer
DESCRIPTION:Le temps des beaux jours ou des vacances estivales est souvent l’occasion d’un temps de voyage loin de chez soi \, de sa région voire de son pays. \nJe vous propose l’expérience d’un voyage différent \, un voyage au cœur de votre être\, au plus près du Soi pour trouver ou retrouver un sens à sa vie et oser exprimer ses talents\, dons et potentialités. \nAtelier en groupe sur 3 jours\, 360 euros matériel compris\, avec facilité de paiement sur demande. \nHébergement possible aux alentours (gîtes\, chambres d’hôtes\, camping) et repas partagé sur place.
URL:https://chrystelleargous.fr/event/atelier-se-recentrer-2/
CATEGORIES:Atelier
ATTACH;FMTTYPE=image/jpeg:https://chrystelleargous.fr/wp-content/uploads/2025/03/252-1.jpg
END:VEVENT
END:VCALENDAR