BEGIN:VCALENDAR
VERSION:2.0
PRODID:-//Chrystelle Argous - ECPv6.13.2.1//NONSGML v1.0//EN
CALSCALE:GREGORIAN
METHOD:PUBLISH
X-ORIGINAL-URL:https://chrystelleargous.fr
X-WR-CALDESC:Évènements pour Chrystelle Argous
REFRESH-INTERVAL;VALUE=DURATION:PT1H
X-Robots-Tag:noindex
X-PUBLISHED-TTL:PT1H
BEGIN:VTIMEZONE
TZID:Europe/Paris
BEGIN:DAYLIGHT
TZOFFSETFROM:+0100
TZOFFSETTO:+0200
TZNAME:CEST
DTSTART:20250330T010000
END:DAYLIGHT
BEGIN:STANDARD
TZOFFSETFROM:+0200
TZOFFSETTO:+0100
TZNAME:CET
DTSTART:20251026T010000
END:STANDARD
END:VTIMEZONE
BEGIN:VEVENT
DTSTART;VALUE=DATE:20251018
DTEND;VALUE=DATE:20251019
DTSTAMP:20260421T171451
CREATED:20250603T143518Z
LAST-MODIFIED:20250603T143518Z
UID:25993865-1760745600-1760831999@chrystelleargous.fr
SUMMARY:Atelier créativité
DESCRIPTION:Un RDV régulier avec vous-même tout en étant en lien avec l’autre…. Une invitation à explorer votre potentiel créatif\, souvent mis de côté dans votre vie quotidienne remplie de contraintes. \nUn espace pour sortir des sentiers battus\, stimuler vos mains\, votre cœur\, votre corps et votre âme…. \nEt ce\, dans un cadre bienveillant et sans jugement ; une atmosphère conviviale et inspirante ….. juste dans le plaisir de créer. \nAtelier en groupe (10h – 13h)\, tous les 3ème samedi du mois\, 40 euros\, matériel compris mais  possibilité d’apporter le vôtre et le mettre dans le « pot commun ».
URL:https://chrystelleargous.fr/event/atelier-creativite-2/
CATEGORIES:Atelier
ATTACH;FMTTYPE=image/jpeg:https://chrystelleargous.fr/wp-content/uploads/2025/03/PHOTO-ATELIER-PAROLES-DE-FEMMES-1.jpg
END:VEVENT
END:VCALENDAR