BEGIN:VCALENDAR
VERSION:2.0
PRODID:-//Chrystelle Argous - ECPv6.13.2.1//NONSGML v1.0//EN
CALSCALE:GREGORIAN
METHOD:PUBLISH
X-WR-CALNAME:Chrystelle Argous
X-ORIGINAL-URL:https://chrystelleargous.fr
X-WR-CALDESC:Évènements pour Chrystelle Argous
REFRESH-INTERVAL;VALUE=DURATION:PT1H
X-Robots-Tag:noindex
X-PUBLISHED-TTL:PT1H
BEGIN:VTIMEZONE
TZID:Europe/Paris
BEGIN:DAYLIGHT
TZOFFSETFROM:+0100
TZOFFSETTO:+0200
TZNAME:CEST
DTSTART:20250330T010000
END:DAYLIGHT
BEGIN:STANDARD
TZOFFSETFROM:+0200
TZOFFSETTO:+0100
TZNAME:CET
DTSTART:20251026T010000
END:STANDARD
END:VTIMEZONE
BEGIN:VEVENT
DTSTART;VALUE=DATE:20250603
DTEND;VALUE=DATE:20250604
DTSTAMP:20260421T222731
CREATED:20250603T143607Z
LAST-MODIFIED:20250603T143607Z
UID:25993867-1748908800-1748995199@chrystelleargous.fr
SUMMARY:Atelier créativité
DESCRIPTION:Un RDV régulier avec vous-même tout en étant en lien avec l’autre…. Une invitation à explorer votre potentiel créatif\, souvent mis de côté dans votre vie quotidienne remplie de contraintes. \nUn espace pour sortir des sentiers battus\, stimuler vos mains\, votre cœur\, votre corps et votre âme…. \nEt ce\, dans un cadre bienveillant et sans jugement ; une atmosphère conviviale et inspirante ….. juste dans le plaisir de créer. \nAtelier en groupe (10h – 13h)\, tous les 3ème samedi du mois\, 40 euros\, matériel compris mais  possibilité d’apporter le vôtre et le mettre dans le « pot commun ».
URL:https://chrystelleargous.fr/event/atelier-creativite-3/
CATEGORIES:Atelier
ATTACH;FMTTYPE=image/jpeg:https://chrystelleargous.fr/wp-content/uploads/2025/03/PHOTO-ATELIER-PAROLES-DE-FEMMES-1.jpg
END:VEVENT
BEGIN:VEVENT
DTSTART;VALUE=DATE:20250607
DTEND;VALUE=DATE:20250610
DTSTAMP:20260421T222731
CREATED:20250512T151533Z
LAST-MODIFIED:20250603T143040Z
UID:25993699-1749254400-1749513599@chrystelleargous.fr
SUMMARY:Atelier se recentrer
DESCRIPTION:Le temps des beaux jours ou des vacances estivales est souvent l’occasion d’un temps de voyage loin de chez soi \, de sa région voire de son pays. \nJe vous propose l’expérience d’un voyage différent \, un voyage au cœur de votre être\, au plus près du Soi pour trouver ou retrouver un sens à sa vie et oser exprimer ses talents\, dons et potentialités. \nAtelier en groupe sur 3 jours\, 360 euros matériel compris\, avec facilité de paiement sur demande. \nHébergement possible aux alentours (gîtes\, chambres d’hôtes\, camping) et repas partagé sur place.
URL:https://chrystelleargous.fr/event/atelier-se-recentrer/
CATEGORIES:Atelier
ATTACH;FMTTYPE=image/jpeg:https://chrystelleargous.fr/wp-content/uploads/2025/03/252-1.jpg
END:VEVENT
END:VCALENDAR